BEGIN:VCALENDAR
VERSION:2.0
PRODID:-//Hacienda North CDD - ECPv6.13.2.1//NONSGML v1.0//EN
CALSCALE:GREGORIAN
METHOD:PUBLISH
X-ORIGINAL-URL:http://haciendanorthcdd.com
X-WR-CALDESC:Events for Hacienda North CDD
REFRESH-INTERVAL;VALUE=DURATION:PT1H
X-Robots-Tag:noindex
X-PUBLISHED-TTL:PT1H
BEGIN:VTIMEZONE
TZID:UTC
BEGIN:STANDARD
TZOFFSETFROM:+0000
TZOFFSETTO:+0000
TZNAME:UTC
DTSTART:20250101T000000
END:STANDARD
END:VTIMEZONE
BEGIN:VEVENT
DTSTART;TZID=UTC:20260317T090000
DTEND;TZID=UTC:20260317T090000
DTSTAMP:20260419T200733
CREATED:20260408T174704Z
LAST-MODIFIED:20260408T174715Z
UID:6075-1773738000-1773738000@haciendanorthcdd.com
SUMMARY:Hacienda North – Meeting March 2026
DESCRIPTION:
URL:http://haciendanorthcdd.com/event/hacienda-north-meeting-march-2026-2
LOCATION:Seven Shores Clubhouse\, 8936 Oceana Way\, Naples\, FL\, 34114\, United States
END:VEVENT
BEGIN:VEVENT
DTSTART;TZID=UTC:20260217T090000
DTEND;TZID=UTC:20260217T090000
DTSTAMP:20260419T200733
CREATED:20260408T174702Z
LAST-MODIFIED:20260408T174702Z
UID:6074-1771318800-1771318800@haciendanorthcdd.com
SUMMARY:Hacienda North – Meeting February 2026
DESCRIPTION:
URL:http://haciendanorthcdd.com/event/hacienda-north-meeting-february-2026-2
LOCATION:Seven Shores Clubhouse\, 8936 Oceana Way\, Naples\, FL\, 34114\, United States
END:VEVENT
BEGIN:VEVENT
DTSTART;TZID=UTC:20260120T090000
DTEND;TZID=UTC:20260120T090000
DTSTAMP:20260419T200733
CREATED:20260408T174702Z
LAST-MODIFIED:20260408T174702Z
UID:6073-1768899600-1768899600@haciendanorthcdd.com
SUMMARY:Hacienda North – Meeting January 2026
DESCRIPTION:
URL:http://haciendanorthcdd.com/event/hacienda-north-meeting-january-2026-2
LOCATION:Seven Shores Clubhouse\, 8936 Oceana Way\, Naples\, FL\, 34114\, United States
END:VEVENT
BEGIN:VEVENT
DTSTART;TZID=UTC:20251216T090000
DTEND;TZID=UTC:20251216T090000
DTSTAMP:20260419T200733
CREATED:20260408T174702Z
LAST-MODIFIED:20260408T174702Z
UID:6072-1765875600-1765875600@haciendanorthcdd.com
SUMMARY:Hacienda North – Meeting December 2025
DESCRIPTION:
URL:http://haciendanorthcdd.com/event/hacienda-north-meeting-december-2025-2
LOCATION:Seven Shores Clubhouse\, 8936 Oceana Way\, Naples\, FL\, 34114\, United States
END:VEVENT
BEGIN:VEVENT
DTSTART;TZID=UTC:20251118T090000
DTEND;TZID=UTC:20251118T090000
DTSTAMP:20260419T200733
CREATED:20260408T174702Z
LAST-MODIFIED:20260408T174702Z
UID:6071-1763456400-1763456400@haciendanorthcdd.com
SUMMARY:Hacienda North – Meeting November 2025
DESCRIPTION:
URL:http://haciendanorthcdd.com/event/hacienda-north-meeting-november-2025-2
LOCATION:Seven Shores Clubhouse\, 8936 Oceana Way\, Naples\, FL\, 34114\, United States
END:VEVENT
BEGIN:VEVENT
DTSTART;TZID=UTC:20251021T090000
DTEND;TZID=UTC:20251021T090000
DTSTAMP:20260419T200733
CREATED:20260408T174701Z
LAST-MODIFIED:20260408T174701Z
UID:6070-1761037200-1761037200@haciendanorthcdd.com
SUMMARY:Hacienda North – Meeting October 2025
DESCRIPTION:
URL:http://haciendanorthcdd.com/event/hacienda-north-meeting-october-2025-2
LOCATION:Seven Shores Clubhouse\, 8936 Oceana Way\, Naples\, FL\, 34114\, United States
END:VEVENT
END:VCALENDAR